BEGIN:VCALENDAR
VERSION:2.0
PRODID:icalendar-ruby
CALSCALE:GREGORIAN
METHOD:PUBLISH
BEGIN:VEVENT
DTSTAMP:20260425T185524Z
UID:436-4415386@clfcr.com
DTSTART:20260601T010000Z
DTEND:20260601T030000Z
CLASS:PUBLIC
CREATED:20260421T110903
DESCRIPTION:Share\, Care and Prayer\nIt is a time intended for spending tim
 e with God\, being prayed for\, and praying for others. \nLocated in the 
 Ministry Centre\, from 6-8pm. \nLed by Philip &amp\; Deanna Marion. \n\n
 Questions? Contact our Next Steps Coordinator\, Philip on the contact form
  below. 
LAST-MODIFIED:20260421T110903
LOCATION:Ministry Centre
SUMMARY:Share\, Care and Prayer
URL;VALUE=URI:https://www.clfcr.com/events/share-care-and-prayer/2026-05-31
ATTACH;FILENAME=2.jpg;FMTTYPE=image/jpeg:https://dq5pwpg1q8ru0.cloudfront.n
 et/2025/10/08/16/52/12/41953510-d2d3-43b5-9fa8-8dde5c8ecef3/2.jpg
END:VEVENT
END:VCALENDAR
