BEGIN:VCALENDAR
VERSION:2.0
PRODID:icalendar-ruby
CALSCALE:GREGORIAN
METHOD:PUBLISH
BEGIN:VEVENT
DTSTAMP:20260425T172952Z
UID:472-4415391@clfcr.com
DTSTART:20260524T020000Z
DTEND:20260524T040000Z
CLASS:PUBLIC
CREATED:20260421T113146
DESCRIPTION:Ladies- It's time to tap into your creative side! We are having
  a paint night. \nPlease sign up so we know how much to paint &amp\; supp
 lies to have. Cost is $10 and you can pay at the door. \n\nBring a snack 
 to share while we paint away! 
LAST-MODIFIED:20260421T113146
LOCATION:Ministry Centre
SUMMARY:Paint Night
URL;VALUE=URI:https://www.clfcr.com/events/paint-night/2026-05-23
ATTACH;FILENAME=Paint-Night---womens-connection-Presentation.jpg;FMTTYPE=im
 age/jpeg:https://dq5pwpg1q8ru0.cloudfront.net/2026/04/21/18/31/46/c232391b
 -1c95-42cf-841e-be2d851e2254/Paint-Night---womens-connection-Presentation.
 jpg
END:VEVENT
END:VCALENDAR
