BEGIN:VCALENDAR
VERSION:2.0
PRODID:icalendar-ruby
CALSCALE:GREGORIAN
METHOD:PUBLISH
BEGIN:VEVENT
DTSTAMP:20260421T215715Z
UID:470-4415387@clfcr.com
DTSTART:20260502T013000Z
DTEND:20260502T033000Z
CLASS:PUBLIC
CREATED:20260421T111225
DESCRIPTION:Not your average ballpark dog.\nJoin us for a fully loaded Gour
 met Hot Dog Bar\nPile on the toppings\, build your perfect dog\,\nand enjo
 y a great meal with the guys.\nTickets are $10 and you can purchase them f
 rom Jeremy or Luc.
LAST-MODIFIED:20260421T111225
LOCATION:Ministry Centre
SUMMARY:IronWorks Men's Ministry
URL;VALUE=URI:https://www.clfcr.com/events/ironworks-mens-ministry--470/202
 6-05-01
ATTACH;FILENAME=Forge-Gathering---20260501---Poster.jpg;FMTTYPE=image/jpeg:
 https://dq5pwpg1q8ru0.cloudfront.net/2026/04/21/18/12/25/1e5a81a1-0d33-499
 a-a120-b8db2f26f7b9/Forge-Gathering---20260501---Poster.jpg
END:VEVENT
END:VCALENDAR
