BEGIN:VCALENDAR
VERSION:2.0
PRODID:icalendar-ruby
CALSCALE:GREGORIAN
METHOD:PUBLISH
BEGIN:VEVENT
DTSTAMP:20260421T233332Z
UID:453-4420044@clfcr.com
DTSTART:20261101T203000Z
DTEND:20261101T213000Z
CLASS:PUBLIC
CREATED:20260421T160737
DESCRIPTION:Find Your People Potluck
LAST-MODIFIED:20260421T160737
LOCATION:Ministry Centre
SUMMARY:Find Your People Potluck
URL;VALUE=URI:https://www.clfcr.com/events/find-your-people-potluck/2026-11
 -01
END:VEVENT
END:VCALENDAR
