BEGIN:VCALENDAR
VERSION:2.0
PRODID:icalendar-ruby
CALSCALE:GREGORIAN
METHOD:PUBLISH
BEGIN:VEVENT
DTSTAMP:20260421T203535Z
UID:453-4417683@clfcr.com
DTSTART:20261018T193000Z
DTEND:20261018T203000Z
CLASS:PUBLIC
CREATED:20260421T132853
DESCRIPTION:Find Your People Potluck
LAST-MODIFIED:20260421T132853
LOCATION:Ministry Centre
SUMMARY:Find Your People Potluck
URL;VALUE=URI:https://www.clfcr.com/events/find-your-people-potluck/2026-10
 -18
END:VEVENT
END:VCALENDAR
