BEGIN:VCALENDAR
VERSION:2.0
PRODID:icalendar-ruby
CALSCALE:GREGORIAN
METHOD:PUBLISH
BEGIN:VEVENT
DTSTAMP:20260421T184532Z
UID:453-4415210@clfcr.com
DTSTART:20261011T193000Z
DTEND:20261011T203000Z
CLASS:PUBLIC
CREATED:20260421T105312
DESCRIPTION:Find Your People Potluck
LAST-MODIFIED:20260421T105312
LOCATION:Ministry Centre
SUMMARY:Find Your People Potluck
URL;VALUE=URI:https://www.clfcr.com/events/find-your-people-potluck/2026-10
 -11
END:VEVENT
END:VCALENDAR
