BEGIN:VCALENDAR
VERSION:2.0
PRODID:icalendar-ruby
CALSCALE:GREGORIAN
METHOD:PUBLISH
BEGIN:VEVENT
DTSTAMP:20260421T171654Z
UID:453-4412846@clfcr.com
DTSTART:20261004T193000Z
DTEND:20261004T203000Z
CLASS:PUBLIC
CREATED:20260421T081259
DESCRIPTION:Find Your People Potluck
LAST-MODIFIED:20260421T081259
LOCATION:Ministry Centre
SUMMARY:Find Your People Potluck
URL;VALUE=URI:https://www.clfcr.com/events/find-your-people-potluck/2026-10
 -04
END:VEVENT
END:VCALENDAR
