BEGIN:VCALENDAR
VERSION:2.0
PRODID:icalendar-ruby
CALSCALE:GREGORIAN
METHOD:PUBLISH
BEGIN:VEVENT
DTSTAMP:20260421T135335Z
UID:453-4410481@clfcr.com
DTSTART:20260920T193000Z
DTEND:20260920T203000Z
CLASS:PUBLIC
CREATED:20260421T053717
DESCRIPTION:Find Your People Potluck
LAST-MODIFIED:20260421T053717
LOCATION:Ministry Centre
SUMMARY:Find Your People Potluck
URL;VALUE=URI:https://www.clfcr.com/events/find-your-people-potluck/2026-09
 -20
END:VEVENT
END:VCALENDAR
