BEGIN:VCALENDAR
VERSION:2.0
PRODID:icalendar-ruby
CALSCALE:GREGORIAN
METHOD:PUBLISH
BEGIN:VEVENT
DTSTAMP:20260421T103728Z
UID:453-4408116@clfcr.com
DTSTART:20260906T193000Z
DTEND:20260906T203000Z
CLASS:PUBLIC
CREATED:20260421T030104
DESCRIPTION:Find Your People Potluck
LAST-MODIFIED:20260421T030104
LOCATION:Ministry Centre
SUMMARY:Find Your People Potluck
URL;VALUE=URI:https://www.clfcr.com/events/find-your-people-potluck/2026-09
 -06
END:VEVENT
END:VCALENDAR
