BEGIN:VCALENDAR
VERSION:2.0
PRODID:icalendar-ruby
CALSCALE:GREGORIAN
METHOD:PUBLISH
BEGIN:VEVENT
DTSTAMP:20260423T083158Z
UID:453-4434198@clfcr.com
DTSTART:20260830T193000Z
DTEND:20260830T203000Z
CLASS:PUBLIC
CREATED:20260422T173152
DESCRIPTION:Find Your People Potluck
LAST-MODIFIED:20260422T173152
LOCATION:Ministry Centre
SUMMARY:Find Your People Potluck
URL;VALUE=URI:https://www.clfcr.com/events/find-your-people-potluck/2026-08
 -30
END:VEVENT
END:VCALENDAR
