BEGIN:VCALENDAR
VERSION:2.0
PRODID:icalendar-ruby
CALSCALE:GREGORIAN
METHOD:PUBLISH
BEGIN:VEVENT
DTSTAMP:20260425T172723Z
UID:471-4415390@clfcr.com
DTSTART:20260521T233000Z
DTEND:20260522T010000Z
CLASS:PUBLIC
CREATED:20260421T112215
DESCRIPTION:Help us provide a spaghetti meal for the families of CLCC so th
 ey can enjoy a night off from cooking &amp\; cleaning.\nWhen: May 21\nWay
 s to Serve:\n-Cook\, Set-up\, Serve\, Clean up\, and bake!\nSign-up on the
  clipboard on Sunday.
LAST-MODIFIED:20260421T112215
LOCATION:Worship Centre
SUMMARY:Dine'n'Dash
URL;VALUE=URI:https://www.clfcr.com/events/dinendash--471/2026-05-21
ATTACH;FILENAME=DinenDash.jpg;FMTTYPE=image/jpeg:https://dq5pwpg1q8ru0.clou
 dfront.net/2026/04/21/18/21/00/fa32f662-2896-4c13-a780-5c30f4bfd4d3/DinenD
 ash.jpg
END:VEVENT
END:VCALENDAR
